BEGIN:VCALENDAR
VERSION:2.0
PRODID:-//ChamberMaster//Event Calendar 2.0//EN
METHOD:PUBLISH
X-PUBLISHED-TTL:P3D
REFRESH-INTERVAL:P3D
CALSCALE:GREGORIAN
BEGIN:VEVENT
DTSTART:20260407T133000Z
DTEND:20260407T183000Z
X-MICROSOFT-CDO-ALLDAYEVENT:FALSE
SUMMARY:Office Hours w/Chill Moody - Marketing and Branding Strategy
DESCRIPTION:Level Up Your Brand with Chill Moody\n\nChamber members now have the exclusive opportunity to book a 30-minute Office Hours session with our Brand Ambassador-in-Residence\, Chill Moody.\n\nFrom winning Philadelphia Magazine's "Best of Philly   Best Rapper" to building the multi-platform lifestyle brand nicethings\, Chill Moody knows what it takes to build a brand\, grow an audience\, and turn creativity into business.\n\nDuring these 30-minute one-on-one sessions\, members can gain insights on:\n\n  Branding and storytelling\n\n  Marketing strategy\n\n  Audience growth\n\n  Building a lifestyle brand\n\n\nWho Should Attend\n\nThis opportunity is ideal for:\n\n  Entrepreneurs & Small Business Owners looking to elevate their brand\n\n  Marketing & Communications Professionals seeking fresh strategies\n\n  Startup Founders & Creatives building visibility and audience\n\n  Consultants & Service Providers strengthening their brand positioning\n\n  Business Leaders & Executives focused on scaling their brand presence\n\n  Members-only opportunity. Limited 30-minute sessions available.\n\nOffice Hours: Tuesdays | 9:30 AM   2:30 PM\n\n\nImportant   Two-Step Process\n\nStep 1: Click Register to secure your meeting time.\n\nStep 2: You will receive a confirmation email. At the top of the email\, click the link titled "Form" to complete the required questionnaire and finalize your registration.\n\n\nRequired Form\n\nIn preparation for your appointment\, please complete the REQUIRED FORM within 24 hours of registering.\n\nThe form must be submitted prior to meeting with Chill Moody.\n\nIf the form is not received within that timeframe\, your appointment will be released and you will need to register for a new time slot. Space is limited.\n\nWe appreciate your prompt response and look forward to connecting with you.\n\nPlease note: The Date and Time message is static and can be ignored.
X-ALT-DESC;FMTTYPE=text/html:<h3 data-end="194" data-section-id="1pv2i47" data-start="147"><strong data-end="273" data-start="233">Level Up Your Brand with Chill Moody</strong></h3>\n\n<p data-end="423" data-start="275">Chamber members now have the <strong data-end="423" data-start="304">exclusive opportunity to book a 30-minute Office Hours session with our Brand Ambassador-in-Residence\, Chill Moody.</strong></p>\n\n<p data-end="666" data-start="425">From winning <strong data-end="496" data-start="438">Philadelphia Magazine&rsquo\;s &ldquo\;Best of Philly &ndash\; Best Rapper&rdquo\;</strong> to building the multi-platform lifestyle brand <strong data-end="558" data-start="544">nicethings</strong>\, Chill Moody knows what it takes to <strong data-end="666" data-start="595">build a brand\, grow an audience\, and turn creativity into business.</strong></p>\n\n<p data-end="745" data-start="668">During these <strong data-end="714" data-start="681">30-minute one-on-one sessions</strong>\, members can gain insights on:</p>\n\n<p data-end="850" data-start="747">&bull\; Branding and storytelling<br data-end="777" data-start="774" />\n&bull\; Marketing strategy<br data-end="800" data-start="797" />\n&bull\; Audience growth<br data-end="820" data-start="817" />\n&bull\; Building a lifestyle brand</p>\n\n<hr data-end="855" data-start="852" />\n<h3 data-end="882" data-section-id="1krtifl" data-start="857"><strong data-end="882" data-start="861">Who Should Attend</strong></h3>\n\n<p data-end="913" data-start="883">This opportunity is ideal for:</p>\n\n<p data-end="1291" data-start="915">&bull\; <strong data-end="958" data-start="917">Entrepreneurs &amp\; Small Business Owners</strong> looking to elevate their brand<br data-end="992" data-start="989" />\n&bull\; <strong data-end="1038" data-start="994">Marketing &amp\; Communications Professionals</strong> seeking fresh strategies<br data-end="1066" data-start="1063" />\n&bull\; <strong data-end="1100" data-start="1068">Startup Founders &amp\; Creatives</strong> building visibility and audience<br data-end="1136" data-start="1133" />\n&bull\; <strong data-end="1173" data-start="1138">Consultants &amp\; Service Providers</strong> strengthening their brand positioning<br data-end="1214" data-start="1211" />\n&bull\; <strong data-end="1249" data-start="1216">Business Leaders &amp\; Executives</strong> focused on scaling their brand presence</p>\n\n<p data-end="1362" data-start="1293">&#10024\; <strong data-end="1362" data-start="1295">Members-only opportunity. Limited 30-minute sessions available.</strong></p>\n\n<p data-end="1410" data-start="1364"><strong data-end="1381" data-start="1364">Office Hours:</strong> Tuesdays | 9:30 AM &ndash\; 2:30 PM</p>\n\n<hr data-end="1415" data-start="1412" />\n<h3 data-end="1453" data-section-id="1fm76uj" data-start="1417"><span style="color:#FF0000\;"><strong data-end="1453" data-start="1421">Important &ndash\; Two-Step Process</strong></span></h3>\n\n<p data-end="1514" data-start="1455"><strong data-end="1466" data-start="1455">Step 1:</strong> Click <strong data-end="1485" data-start="1473">Register</strong> to secure your meeting time.</p>\n\n<p data-end="1695" data-start="1516"><strong data-end="1527" data-start="1516">Step 2:</strong> You will receive a confirmation email. At the top of the email\, click the link titled <strong data-end="1624" data-start="1614">&ldquo\;Form&rdquo\;</strong> to complete the required questionnaire and finalize your registration.</p>\n\n<hr data-end="1700" data-start="1697" />\n<h3 data-end="1723" data-section-id="1awgprt" data-start="1702"><strong data-end="1723" data-start="1706">Required Form</strong></h3>\n\n<p data-end="1831" data-start="1725">In preparation for your appointment\, please complete the<span style="color:#FF0000\;"> <strong data-end="1831" data-start="1782">REQUIRED FORM within 24 hours of registering.</strong></span></p>\n\n<p data-end="1898" data-start="1833">The form <strong data-end="1898" data-start="1842">must be submitted prior to meeting with Chill Moody.</strong></p>\n\n<p data-end="2057" data-start="1900">If the form is not received within that timeframe\, your appointment will be released and you will need to register for a new time slot. <strong data-end="2057" data-start="2036">Space is limited.</strong></p>\n\n<p data-end="2134" data-start="2059">We appreciate your prompt response and look forward to connecting with you.</p>\n\n<p data-end="2206" data-start="2136"><em data-end="2206" data-start="2136">Please note: The Date and Time message is static and can be ignored.</em></p>\n\n<p data-end="558" data-start="456">&nbsp\;</p>\n
LOCATION:
UID:e.2887.2460
SEQUENCE:3
DTSTAMP:20260423T105456Z
URL:https://membership.aachamber.com/events/details/office-hours-w-chill-moody-marketing-and-branding-04-07-2026-2460
END:VEVENT

END:VCALENDAR
